BEGIN:VCALENDAR
VERSION:2.0
PRODID:-//Horní Podřevnicko - ECPv6.15.20//NONSGML v1.0//EN
CALSCALE:GREGORIAN
METHOD:PUBLISH
X-ORIGINAL-URL:https://www.hornipodrevnicko.cz
X-WR-CALDESC:Akce na Horní Podřevnicko
REFRESH-INTERVAL;VALUE=DURATION:PT1H
X-Robots-Tag:noindex
X-PUBLISHED-TTL:PT1H
BEGIN:VTIMEZONE
TZID:Europe/Prague
BEGIN:DAYLIGHT
TZOFFSETFROM:+0100
TZOFFSETTO:+0200
TZNAME:CEST
DTSTART:20250330T010000
END:DAYLIGHT
BEGIN:STANDARD
TZOFFSETFROM:+0200
TZOFFSETTO:+0100
TZNAME:CET
DTSTART:20251026T010000
END:STANDARD
BEGIN:DAYLIGHT
TZOFFSETFROM:+0100
TZOFFSETTO:+0200
TZNAME:CEST
DTSTART:20260329T010000
END:DAYLIGHT
BEGIN:STANDARD
TZOFFSETFROM:+0200
TZOFFSETTO:+0100
TZNAME:CET
DTSTART:20261025T010000
END:STANDARD
BEGIN:DAYLIGHT
TZOFFSETFROM:+0100
TZOFFSETTO:+0200
TZNAME:CEST
DTSTART:20270328T010000
END:DAYLIGHT
BEGIN:STANDARD
TZOFFSETFROM:+0200
TZOFFSETTO:+0100
TZNAME:CET
DTSTART:20271031T010000
END:STANDARD
END:VTIMEZONE
BEGIN:VEVENT
DTSTART;VALUE=DATE:20260508
DTEND;VALUE=DATE:20260511
DTSTAMP:20260425T195311
CREATED:20260303T173242Z
LAST-MODIFIED:20260324T143920Z
UID:10000912-1778220000-1778392799@www.hornipodrevnicko.cz
SUMMARY:Síť21 Rallysprint Kopná 2026
DESCRIPTION:Nejpopulárnější český rallysprint se pojede v termínu 8. – 9. května. \nČeský rallysprintový šampionát se i letos zastaví ve Slušovicích. Zdejší závod patří k nejpopulárnějším rally v naší zemi\, vždyť se také jedná se o nejstarší rallysprintový podnik v ČR – letos se bude konat jeho již jedenatřicátý ročník! Trať soutěže je tradičně umístěná na rozhraní Hostýnských a Vizovických vrchů a její centrum se jako obvykle nachází ve Slušovicích\, zhruba 20 kilometrů severovýchodně od krajského města Zlín. \nPořadatelem Rallysprintu Kopná je již poněkolikáté Rallyklub východní Morava v AČR\, který převzal pořadatelské žezlo od rodinného klanu Minaříků z Podkopné Lhoty. \nSíť21 Rallysprint Kopná je druhým podnikem Autoklub Rallysprint Série 2026\, je také součástí Rallysprint série historických automobilů\, Poháru P2+\, Poháru mládeže a vypsán je rovněž Pohár pořadatele. I letos na Kopnou zavítá mistrovství Slovenska v rally\, nebude tedy nouze o mezinárodní účast. \nDalší informace přineseme včas v tiskových zprávách. \n  \n 
URL:https://www.hornipodrevnicko.cz/event/sit21-rallysprint-kopna-2026/
LOCATION:Slušovice a okolí
CATEGORIES:Sportovní akce
ATTACH;FMTTYPE=image/jpeg:https://www.hornipodrevnicko.cz/wp-content/uploads/2024/05/JMR39528.jpg
END:VEVENT
END:VCALENDAR